BEGIN:VCALENDAR
PRODID:-//Mozilla.org/NONSGML Mozilla Calendar V1.1//EN
VERSION:2.0
CALSCALE:GREGORIAN
BEGIN:VEVENT
DTSTAMP:20260420T112552Z
DTSTART:20260422T063000
DTEND:20260422T070000
SUMMARY:2023 HYUNDAI HB20 
LOCATION:http://www.copart.com.br:80
DESCRIPTION:Please join us for the following auction:\n\n2023 HYUNDAI HB2
 0 \nwww.copart.com.br\n\n\n\nContact us at member.services@copart.com or
  (972) 391-5400 if you have any questions leading up to the auction.\n\n
 \n-Your Copart Team
UID:20260420T112552Z-uidGen@lvpbaw211.corp.copart.com
END:VEVENT
END:VCALENDAR
